BEGIN:VCALENDAR
VERSION:2.0
PRODID:-//Drupal iCal API//EN
X-WR-CALNAME:Calendar of Events
X-WR-TIMEZONE:America/Chicago
BEGIN:VTIMEZONE
TZID:America/Chicago
X-LIC-LOCATION:America/Chicago
BEGIN:DAYLIGHT
TZNAME:CDT
TZOFFSETFROM:-0600
TZOFFSETTO:-0500
DTSTART:20260308T080000
END:DAYLIGHT
BEGIN:STANDARD
TZNAME:CST
TZOFFSETFROM:-0500
TZOFFSETTO:-0600
DTSTART:20251102T070000
END:STANDARD
END:VTIMEZONE
BEGIN:VEVENT
UID:f842b9f7-5ded-4b1b-bcfe-5ef3513b5812
DTSTART;TZID=America/Chicago:20260427T173000
SEQUENCE:0
TRANSP:TRANSPARENT
DTEND;TZID=America/Chicago:20260427T183000
SUMMARY:Reilly PTA Meeting / Reunión de la PTA de Reilly
CLASS:PUBLIC
DESCRIPTION:Body \n\nMeeting to be held at Reilly Elementary!  If your stu
 dent will be\nattending Reilly Elementary next year\, come get involved in
  the PTA. \nThey will be electing the board for next year during this mee
 ting.\n\n \n\n¡La reunión se llevará a cabo en la Escuela Primaria Rei
 lly!  Si\nsu hijo asistirá a la Escuela Primaria Reilly el próximo año
 \,\n¡venga a participar en la PTA! En esta reunión se elegirá la junta\
 ndirectiva para el próximo año.
DTSTAMP:20260422T174959Z
END:VEVENT
END:VCALENDAR